BEGIN:VCALENDAR
VERSION:2.0
CALSCALE:GREGORIAN
PRODID:adamgibbons/ics
METHOD:PUBLISH
X-PUBLISHED-TTL:PT1H
BEGIN:VEVENT
UID:217@durockrj.com.br
SUMMARY:Killpop - Especial NuMetal e Anos 2000
DTSTAMP:20260422T000641Z
DTSTART:20260424T210000Z
URL:https://durockrj.com.br/event/killpop-especial-numetal-e-anos-2000
GEO:-22.4039812;-42.9635328
LOCATION:Taurus American Bar - Av. Delfim Moreira\, 1436 - Várzea\, Teresóp
	olis - RJ
STATUS:CONFIRMED
CATEGORIES:teresopolis,região serrana
END:VEVENT
BEGIN:VEVENT
UID:287@durockrj.com.br
SUMMARY:Fish N' Chips
DTSTAMP:20260422T000641Z
DTSTART:20260426T010000Z
URL:https://durockrj.com.br/event/fish-n-chips
GEO:-22.4039812;-42.9635328
LOCATION:Taurus American Bar - Av. Delfim Moreira\, 1436 - Várzea\, Teresóp
	olis - RJ
STATUS:CONFIRMED
CATEGORIES:região serrana,teresopolis
END:VEVENT
BEGIN:VEVENT
UID:288@durockrj.com.br
SUMMARY:She Beast e Doomship - Iron Maiden e Black Sabath Tribute
DTSTAMP:20260422T000641Z
DTSTART:20260516T230000Z
URL:https://durockrj.com.br/event/she-beast-e-doomship-iron-maiden-e-black-
	sabath-tribute
GEO:-22.4039812;-42.9635328
LOCATION:Taurus American Bar - Av. Delfim Moreira\, 1436 - Várzea\, Teresóp
	olis - RJ
STATUS:CONFIRMED
CATEGORIES:teresopolis,região serrana
END:VEVENT
BEGIN:VEVENT
UID:101@durockrj.com.br
SUMMARY:Petrópolis Moto Fest - 4ª Edição
DTSTAMP:20260422T000641Z
DTSTART:20260710T190000Z
DTEND:20260713T025900Z
URL:https://durockrj.com.br/event/petropolis-moto-fest-4a-edicao
GEO:-22.4030736;-43.13344
LOCATION:Parque de Exposições Itaipava - Estr. União e Indústria\, 10000 - 
	Itaipava\, Petrópolis - RJ
STATUS:CONFIRMED
CATEGORIES:petropolis,itaipava,região serrana
END:VEVENT
END:VCALENDAR
